BEGIN:VCALENDAR
VERSION:2.0
PRODID:-//Tukios.com/
BEGIN:VEVENT
UID:c44a530a-40a9-479c-953b-6213c250297e@www.mcdonaldandnew.com
DTSTAMP:20260422T181558Z
DTSTART:20260425T200000Z
DTEND:20260425T210000Z
SUMMARY:Memorial Gathering
DESCRIPTION:
URL:https://www.mcdonaldandnew.com/obituaries/chris-tindle
LOCATION:GRATZ COMMUNITY CENTER 125 N Center St  Gratz PA 17030
GEO:40.6139744;-76.7180496
END:VEVENT
END:VCALENDAR